BEGIN:VCALENDAR
VERSION:2.0
PRODID:-//e4ds.com//webinar//EN
BEGIN:VEVENT
UID:20180322T013000Z75092
SUMMARY:[e4ds webinar] Microchip 모터 컨트롤 솔루션
DTSTART:20180322T013000Z
DTEND:20180322T035000Z
DESCRIPTION:/webinar_detail.asp?idx=428
END:VEVENT
END:VCALENDAR