BEGIN:VCALENDAR
VERSION:2.0
PRODID:-//e4ds.com//webinar//EN
BEGIN:VEVENT
UID:20200407T013000Z37774
SUMMARY:[e4ds webinar] 5G mmWave 무선을 위한 RF 기술
DTSTART:20200407T013000Z
DTEND:20200407T030000Z
DESCRIPTION:/webinar_detail.asp?idx=587
END:VEVENT
END:VCALENDAR