BEGIN:VCALENDAR
VERSION:2.0
PRODID:-//e4ds.com//webinar//EN
BEGIN:VEVENT
UID:20210225T013000Z23758
SUMMARY:[e4ds webinar] 전력 사용량 측정 정확도 높이는 IC 선택과 활용
DTSTART:20210225T013000Z
DTEND:20210225T030000Z
DESCRIPTION:/webinar_detail.asp?idx=650
END:VEVENT
END:VCALENDAR