BEGIN:VCALENDAR
VERSION:2.0
PRODID:-//e4ds.com//webinar//EN
BEGIN:VEVENT
UID:20210727T013000Z76583
SUMMARY:[e4ds webinar] 스마트홈 산업 전망
DTSTART:20210727T013000Z
DTEND:20210727T030000Z
DESCRIPTION:/webinar_detail.asp?idx=677
END:VEVENT
END:VCALENDAR