BEGIN:VCALENDAR
VERSION:2.0
PRODID:-//e4ds.com//webinar//EN
BEGIN:VEVENT
UID:20210910T010000Z76583
SUMMARY:[e4ds webinar] [온/오프라인] 제5회 IIoT 이노베이션 데이
DTSTART:20210910T010000Z
DTEND:20210910T033000Z
DESCRIPTION:/webinar_detail.asp?idx=694
END:VEVENT
END:VCALENDAR