BEGIN:VCALENDAR
VERSION:2.0
PRODID:-//e4ds.com//webinar//EN
BEGIN:VEVENT
UID:20211007T013000Z31107
SUMMARY:[e4ds webinar] DC/DC 컨버터의 EMC대책 - 제2편
DTSTART:20211007T013000Z
DTEND:20211007T030000Z
DESCRIPTION:/webinar_detail.asp?idx=696
END:VEVENT
END:VCALENDAR