BEGIN:VCALENDAR
VERSION:2.0
PRODID:-//e4ds.com//webinar//EN
BEGIN:VEVENT
UID:20211207T013000Z11707
SUMMARY:[e4ds webinar] 미래 자동차의 필수 기술인 OTA와 Secure Boot를 위한 TRAVEO™ T2G 아키텍처 이해
DTSTART:20211207T013000Z
DTEND:20211207T030000Z
DESCRIPTION:/webinar_detail.asp?idx=705
END:VEVENT
END:VCALENDAR