BEGIN:VCALENDAR
VERSION:2.0
PRODID:-//e4ds.com//webinar//EN
BEGIN:VEVENT
UID:20220310T013000Z27925
SUMMARY:[e4ds webinar] STM32 MCU에 최적화된 그래픽 솔루션 TouchGFX 
DTSTART:20220310T013000Z
DTEND:20220310T030000Z
DESCRIPTION:/webinar_detail.asp?idx=719
END:VEVENT
END:VCALENDAR