BEGIN:VCALENDAR
VERSION:2.0
PRODID:-//e4ds.com//webinar//EN
BEGIN:VEVENT
UID:20220526T013000Z37121
SUMMARY:[e4ds webinar] ST MEMS Sensor roadmap & ISPU(Intelligent Sensor Processing Unit)
DTSTART:20220526T013000Z
DTEND:20220526T030000Z
DESCRIPTION:/webinar_detail.asp?idx=734
END:VEVENT
END:VCALENDAR