BEGIN:VCALENDAR
VERSION:2.0
PRODID:-//e4ds.com//webinar//EN
BEGIN:VEVENT
UID:20220729T013000Z76603
SUMMARY:[e4ds webinar] e4ds news 7월 월간 브리핑
DTSTART:20220729T013000Z
DTEND:20220729T030000Z
DESCRIPTION:/webinar_detail.asp?idx=749
END:VEVENT
END:VCALENDAR