BEGIN:VCALENDAR
VERSION:2.0
PRODID:-//e4ds.com//webinar//EN
BEGIN:VEVENT
UID:20221021T013000Z76583
SUMMARY:[e4ds webinar] 2022 e4ds 오토모티브 테크 콘서트 - 지정구역 기반 Point-to-Point 이동을 위한 하이브리드 지도
DTSTART:20221021T013000Z
DTEND:20221021T030000Z
DESCRIPTION:/webinar_detail.asp?idx=773
END:VEVENT
END:VCALENDAR