BEGIN:VCALENDAR
VERSION:2.0
PRODID:-//e4ds.com//webinar//EN
BEGIN:VEVENT
UID:20230309T013000Z17177
SUMMARY:[e4ds webinar] ST의 새로운 고성능 MCU, STM32!
DTSTART:20230309T013000Z
DTEND:20230309T030000Z
DESCRIPTION:/webinar_detail.asp?idx=789
END:VEVENT
END:VCALENDAR