BEGIN:VCALENDAR
VERSION:2.0
PRODID:-//e4ds.com//webinar//EN
BEGIN:VEVENT
UID:20231222T013000Z76583
SUMMARY:[e4ds webinar] e4ds news 12월 월간 브리핑
DTSTART:20231222T013000Z
DTEND:20231222T030000Z
DESCRIPTION:/webinar_detail.asp?idx=850
END:VEVENT
END:VCALENDAR