BEGIN:VCALENDAR
VERSION:2.0
PRODID:-//e4ds.com//webinar//EN
BEGIN:VEVENT
UID:20250424T013000Z74433
SUMMARY:[e4ds webinar] PIC64 멀티코어 64비트 마이크로프로세서 소개
DTSTART:20250424T013000Z
DTEND:20250424T030000Z
DESCRIPTION:/webinar_detail.asp?idx=927
END:VEVENT
END:VCALENDAR