BEGIN:VCALENDAR
VERSION:2.0
PRODID:-//e4ds.com//webinar//EN
BEGIN:VEVENT
UID:20260421T013000Z49901
SUMMARY:[e4ds webinar] 차세대 전력반도체 신뢰성의 기준
DTSTART:20260421T013000Z
DTEND:20260421T030000Z
DESCRIPTION:/webinar_detail.asp?idx=972
END:VEVENT
END:VCALENDAR