BEGIN:VCALENDAR
VERSION:2.0
PRODID:-//e4ds.com//webinar//EN
BEGIN:VEVENT
UID:20260120T013000Z70344
SUMMARY:[e4ds webinar] CES가 말해준 Edge AI의 다음 무대 – 스마트홈·지능형 홈에서 제조 현장으로
DTSTART:20260120T013000Z
DTEND:20260120T030000Z
DESCRIPTION:/webinar_detail.asp?idx=975
END:VEVENT
END:VCALENDAR