BEGIN:VCALENDAR
VERSION:2.0
PRODID:-//e4ds.com//webinar//EN
BEGIN:VEVENT
UID:20260219T013000Z70344
SUMMARY:[e4ds webinar] 초소형·저전력 Edge AI 설계 실전, ESP32-S3 x YOLO Nano 객체 탐지
DTSTART:20260219T013000Z
DTEND:20260219T030000Z
DESCRIPTION:/webinar_detail.asp?idx=977
END:VEVENT
END:VCALENDAR